BEGIN:VCALENDAR
VERSION:2.0
PRODID:-//wp-events-plugin.com//7.2.3.1//EN
TZID:America/Denver
X-WR-TIMEZONE:America/Denver
BEGIN:VEVENT
UID:870@silverton.colibraries.org
DTSTART;TZID=America/Denver:20260602T170000
DTEND;TZID=America/Denver:20260602T180000
DTSTAMP:20260417T175543Z
URL:https://silverton.colibraries.org/events/silverton-community-book-club
 /
SUMMARY:Silverton Community Book Club
DESCRIPTION:Join us for our new community book club at the Silverton Public
  Library! We meet the first Tuesday of every month for great conversations
 \, connection\, and a shared love of reading.\nOur first meeting will be h
 eld on June 2\, 2026 at 5:00 pm at the library. Our first book selection i
 s Remarkably Bright Creatures by Shelby Van Pelt.\nYou can order a copy th
 rough the library or read/listen digitally using Hoopla or Libby.\nEveryon
 e is welcome—even if you haven’t finished (or started!) the book. We b
 elieve the conversation is where the magic happens.\nLed by Kim Medved.
LOCATION:Silverton Library\, 1117 Reese St\, Silverton\, Colorado\, 81433\,
  United States
GEO:37.811696;-107.666075
X-APPLE-STRUCTURED-LOCATION;VALUE=URI;X-ADDRESS=1117 Reese St\, Silverton\,
  Colorado\, 81433\, United States;X-APPLE-RADIUS=100;X-TITLE=Silverton Lib
 rary:geo:37.811696,-107.666075
END:VEVENT
BEGIN:VTIMEZONE
TZID:America/Denver
X-LIC-LOCATION:America/Denver
BEGIN:DAYLIGHT
DTSTART:20260308T030000
TZOFFSETFROM:-0700
TZOFFSETTO:-0600
TZNAME:MDT
END:DAYLIGHT
END:VTIMEZONE
END:VCALENDAR